BEGIN:VCALENDAR
VERSION:2.0
PRODID:-//StreamRadar//Match Calendar//EN
CALSCALE:GREGORIAN
METHOD:PUBLISH
X-WR-CALNAME:Operário FC MS vs Ivinhema
X-WR-TIMEZONE:America/New_York
BEGIN:VEVENT
UID:match-5615408@streamradar.soccer
SUMMARY:Operário FC MS vs Ivinhema
DTSTAMP:20260421T093053Z
DTSTART;TZID=America/New_York:20260516T160000
DTEND;TZID=America/New_York:20260516T180000
DESCRIPTION:Tempat menonton Operário FC MS vs Ivinhema di Brasil - Serie D
 . Siaran langsung dan jadwal TV.\nhttps://streamradar.soccer/id/match/56154
 08/operario-fc-ms-vs-ivinhema/
URL;VALUE=URI:https://streamradar.soccer/id/match/5615408/operario-fc-ms-vs
 -ivinhema/
STATUS:CONFIRMED
END:VEVENT
END:VCALENDAR
