BEGIN:VCALENDAR
VERSION:2.0
PRODID:-//StreamRadar//Match Calendar//EN
CALSCALE:GREGORIAN
METHOD:PUBLISH
X-WR-CALNAME:Čukarički vs Partizan
X-WR-TIMEZONE:America/New_York
BEGIN:VEVENT
UID:match-5615325@streamradar.soccer
SUMMARY:Čukarički vs Partizan
DTSTAMP:20260421T141500Z
DTSTART;TZID=America/New_York:20260516T130000
DTEND;TZID=America/New_York:20260516T150000
LOCATION:Stadion na Banovom brdu
DESCRIPTION:Tempat menonton Čukarički vs Partizan di Serbia - Super Liga.
  Siaran langsung dan jadwal TV.\nhttps://streamradar.soccer/id/match/561532
 5/cukaricki-vs-partizan/
URL;VALUE=URI:https://streamradar.soccer/id/match/5615325/cukaricki-vs-part
 izan/
STATUS:CONFIRMED
END:VEVENT
END:VCALENDAR
