BEGIN:VCALENDAR
VERSION:2.0
PRODID:-//StreamRadar//Match Calendar//EN
CALSCALE:GREGORIAN
METHOD:PUBLISH
X-WR-CALNAME:Deportiva Agropecuaria vs Universidad San MartÃ­n
X-WR-TIMEZONE:America/New_York
BEGIN:VEVENT
UID:match-5614634@streamradar.soccer
SUMMARY:Deportiva Agropecuaria vs Universidad San MartÃ­n
DTSTAMP:20260421T104944Z
DTSTART;TZID=America/New_York:20260503T161500
DTEND;TZID=America/New_York:20260503T181500
DESCRIPTION:Tempat menonton Deportiva Agropecuaria vs Universidad San MartÃ
 ­n di Peru - Segunda DivisiÃ³n. Siaran langsung dan jadwal TV.\nhttps://str
 eamradar.soccer/id/match/5614634/deportiva-agropecuaria-vs-universidad-san-
 martin/
URL;VALUE=URI:https://streamradar.soccer/id/match/5614634/deportiva-agropec
 uaria-vs-universidad-san-martin/
STATUS:CONFIRMED
END:VEVENT
END:VCALENDAR
