BEGIN:VCALENDAR
VERSION:2.0
PRODID:-//StreamRadar//Match Calendar//EN
CALSCALE:GREGORIAN
METHOD:PUBLISH
X-WR-CALNAME:Raca vs Komarno B
X-WR-TIMEZONE:America/New_York
BEGIN:VEVENT
UID:match-5613111@streamradar.soccer
SUMMARY:Raca vs Komarno B
DTSTAMP:20260421T092026Z
DTSTART;TZID=America/New_York:20260510T043000
DTEND;TZID=America/New_York:20260510T063000
DESCRIPTION:Tempat menonton Raca vs Komarno B di Slovakia - 3. Futbalová L
 iga. Siaran langsung dan jadwal TV.\nhttps://streamradar.soccer/id/match/56
 13111/raca-vs-komarno-b/
URL;VALUE=URI:https://streamradar.soccer/id/match/5613111/raca-vs-komarno-b
 /
STATUS:CONFIRMED
END:VEVENT
END:VCALENDAR
