BEGIN:VCALENDAR
VERSION:2.0
PRODID:-//StreamRadar//Match Calendar//EN
CALSCALE:GREGORIAN
METHOD:PUBLISH
X-WR-CALNAME:Al Zawra'a vs Al Karkh
X-WR-TIMEZONE:America/New_York
BEGIN:VEVENT
UID:match-5613052@streamradar.soccer
SUMMARY:Al Zawra'a vs Al Karkh
DTSTAMP:20260421T104434Z
DTSTART;TZID=America/New_York:20260418T100000
DTEND;TZID=America/New_York:20260418T120000
LOCATION:Al-Shaab Stadium (Baġdād (Bagdad))
DESCRIPTION:Tempat menonton Al Zawra'a vs Al Karkh di Liga Premier Irak. Si
 aran langsung dan jadwal TV.\nhttps://streamradar.soccer/id/match/5613052/a
 l-zawraa-vs-al-karkh/
URL;VALUE=URI:https://streamradar.soccer/id/match/5613052/al-zawraa-vs-al-k
 arkh/
STATUS:CONFIRMED
END:VEVENT
END:VCALENDAR
