BEGIN:VCALENDAR
VERSION:2.0
PRODID:-//StreamRadar//Match Calendar//EN
CALSCALE:GREGORIAN
METHOD:PUBLISH
X-WR-CALNAME:Basake Holy Stars vs Aduana Stars
X-WR-TIMEZONE:America/New_York
BEGIN:VEVENT
UID:match-5613037@streamradar.soccer
SUMMARY:Basake Holy Stars vs Aduana Stars
DTSTAMP:20260421T042206Z
DTSTART;TZID=America/New_York:20260426T110000
DTEND;TZID=America/New_York:20260426T130000
LOCATION:Crosby Awuah Memorial Stadium
DESCRIPTION:Tempat menonton Basake Holy Stars vs Aduana Stars di Ghana - Gh
 ana Premier League. Siaran langsung dan jadwal TV.\nhttps://streamradar.soc
 cer/id/match/5613037/basake-holy-stars-vs-aduana-stars/
URL;VALUE=URI:https://streamradar.soccer/id/match/5613037/basake-holy-stars
 -vs-aduana-stars/
STATUS:CONFIRMED
END:VEVENT
END:VCALENDAR
