BEGIN:VCALENDAR
VERSION:2.0
PRODID:-//StreamRadar//Match Calendar//EN
CALSCALE:GREGORIAN
METHOD:PUBLISH
X-WR-CALNAME:Olympiakos Piraeus vs Panathinaikos
X-WR-TIMEZONE:America/New_York
BEGIN:VEVENT
UID:match-5613002@streamradar.soccer
SUMMARY:Olympiakos Piraeus vs Panathinaikos
DTSTAMP:20260421T102059Z
DTSTART;TZID=America/New_York:20260513T123000
DTEND;TZID=America/New_York:20260513T143000
LOCATION:Georgios Karaiskakis Stadium
DESCRIPTION:Tempat menonton Olympiakos Piraeus vs Panathinaikos di Yunani -
  Super League Yunani. Siaran langsung dan jadwal TV.\nhttps://streamradar.s
 occer/id/match/5613002/olympiakos-piraeus-vs-panathinaikos/
URL;VALUE=URI:https://streamradar.soccer/id/match/5613002/olympiakos-piraeu
 s-vs-panathinaikos/
STATUS:CONFIRMED
END:VEVENT
END:VCALENDAR
