BEGIN:VCALENDAR
VERSION:2.0
PRODID:-//StreamRadar//Match Calendar//EN
CALSCALE:GREGORIAN
METHOD:PUBLISH
X-WR-CALNAME:Fremad Amager vs VSK Århus
X-WR-TIMEZONE:America/New_York
BEGIN:VEVENT
UID:match-5612718@streamradar.soccer
SUMMARY:Fremad Amager vs VSK Århus
DTSTAMP:20260421T050749Z
DTSTART;TZID=America/New_York:20260502T090000
DTEND;TZID=America/New_York:20260502T110000
DESCRIPTION:Tempat menonton Fremad Amager vs VSK Århus di Denmark - 2nd Di
 vision Denmark. Siaran langsung dan jadwal TV.\nhttps://streamradar.soccer/
 id/match/5612718/fremad-amager-vs-vsk-arhus/
URL;VALUE=URI:https://streamradar.soccer/id/match/5612718/fremad-amager-vs-
 vsk-arhus/
STATUS:CONFIRMED
END:VEVENT
END:VCALENDAR
