BEGIN:VCALENDAR
VERSION:2.0
PRODID:-//StreamRadar//Match Calendar//EN
CALSCALE:GREGORIAN
METHOD:PUBLISH
X-WR-CALNAME:Napredak vs IMT Novi Beograd
X-WR-TIMEZONE:America/New_York
BEGIN:VEVENT
UID:match-5612197@streamradar.soccer
SUMMARY:Napredak vs IMT Novi Beograd
DTSTAMP:20260420T121105Z
DTSTART;TZID=America/New_York:20260423T120000
DTEND;TZID=America/New_York:20260423T140000
DESCRIPTION:Tempat menonton Napredak vs IMT Novi Beograd di Serbia - Super 
 Liga. Siaran langsung dan jadwal TV.\nhttps://streamradar.soccer/id/match/5
 612197/napredak-vs-imt-novi-beograd/
URL;VALUE=URI:https://streamradar.soccer/id/match/5612197/napredak-vs-imt-n
 ovi-beograd/
STATUS:CONFIRMED
END:VEVENT
END:VCALENDAR
