BEGIN:VCALENDAR
VERSION:2.0
PRODID:-//StreamRadar//Match Calendar//EN
CALSCALE:GREGORIAN
METHOD:PUBLISH
X-WR-CALNAME:FAP vs Kabel Novi Sad
X-WR-TIMEZONE:America/New_York
BEGIN:VEVENT
UID:match-5611505@streamradar.soccer
SUMMARY:FAP vs Kabel Novi Sad
DTSTAMP:20260421T093619Z
DTSTART;TZID=America/New_York:20260510T110000
DTEND;TZID=America/New_York:20260510T130000
DESCRIPTION:Tempat menonton FAP vs Kabel Novi Sad di Serbia - Prva Liga. Si
 aran langsung dan jadwal TV.\nhttps://streamradar.soccer/id/match/5611505/f
 ap-vs-kabel-novi-sad/
URL;VALUE=URI:https://streamradar.soccer/id/match/5611505/fap-vs-kabel-novi
 -sad/
STATUS:CONFIRMED
END:VEVENT
END:VCALENDAR
