BEGIN:VCALENDAR
VERSION:2.0
PRODID:-//StreamRadar//Match Calendar//EN
CALSCALE:GREGORIAN
METHOD:PUBLISH
X-WR-CALNAME:Nico United vs Matebele
X-WR-TIMEZONE:America/New_York
BEGIN:VEVENT
UID:match-5610055@streamradar.soccer
SUMMARY:Nico United vs Matebele
DTSTAMP:20260421T165050Z
DTSTART;TZID=America/New_York:20260411T093000
DTEND;TZID=America/New_York:20260411T113000
LOCATION:Selebi-Phikwe Stadium (Selebi-Phikwe)
DESCRIPTION:Tempat menonton Nico United vs Matebele di Bostwana - Premier L
 eague. Siaran langsung dan jadwal TV.\nhttps://streamradar.soccer/id/match/
 5610055/nico-united-vs-matebele/
URL;VALUE=URI:https://streamradar.soccer/id/match/5610055/nico-united-vs-ma
 tebele/
STATUS:CONFIRMED
END:VEVENT
END:VCALENDAR
