BEGIN:VCALENDAR
VERSION:2.0
PRODID:-//StreamRadar//Match Calendar//EN
CALSCALE:GREGORIAN
METHOD:PUBLISH
X-WR-CALNAME:Memmingen vs Schwaben Augsburg
X-WR-TIMEZONE:America/New_York
BEGIN:VEVENT
UID:match-5608944@streamradar.soccer
SUMMARY:Memmingen vs Schwaben Augsburg
DTSTAMP:20260421T033636Z
DTSTART;TZID=America/New_York:20260428T130000
DTEND;TZID=America/New_York:20260428T150000
DESCRIPTION:Tempat menonton Memmingen vs Schwaben Augsburg di Jerman - Liga
  Jerman Divisi Tiga. Siaran langsung dan jadwal TV.\nhttps://streamradar.so
 ccer/id/match/5608944/memmingen-vs-schwaben-augsburg/
URL;VALUE=URI:https://streamradar.soccer/id/match/5608944/memmingen-vs-schw
 aben-augsburg/
STATUS:CONFIRMED
END:VEVENT
END:VCALENDAR
