BEGIN:VCALENDAR
VERSION:2.0
PRODID:-//StreamRadar//Match Calendar//EN
CALSCALE:GREGORIAN
METHOD:PUBLISH
X-WR-CALNAME:Băicoi vs Pucioasa
X-WR-TIMEZONE:America/New_York
BEGIN:VEVENT
UID:match-5608431@streamradar.soccer
SUMMARY:Băicoi vs Pucioasa
DTSTAMP:20260421T050700Z
DTSTART;TZID=America/New_York:20260502T110000
DTEND;TZID=America/New_York:20260502T130000
DESCRIPTION:Tempat menonton Băicoi vs Pucioasa di Rumania - Liga III. Siar
 an langsung dan jadwal TV.\nhttps://streamradar.soccer/id/match/5608431/b-i
 coi-vs-pucioasa/
URL;VALUE=URI:https://streamradar.soccer/id/match/5608431/b-icoi-vs-pucioas
 a/
STATUS:CONFIRMED
END:VEVENT
END:VCALENDAR
