BEGIN:VCALENDAR
VERSION:2.0
PRODID:-//StreamRadar//Match Calendar//EN
CALSCALE:GREGORIAN
METHOD:PUBLISH
X-WR-CALNAME:Nördlingen vs Pipinsried
X-WR-TIMEZONE:America/New_York
BEGIN:VEVENT
UID:match-5607493@streamradar.soccer
SUMMARY:Nördlingen vs Pipinsried
DTSTAMP:20260421T071552Z
DTSTART;TZID=America/New_York:20260428T123000
DTEND;TZID=America/New_York:20260428T143000
DESCRIPTION:Tempat menonton Nördlingen vs Pipinsried di Jerman - Oberliga.
  Siaran langsung dan jadwal TV.\nhttps://streamradar.soccer/id/match/560749
 3/nordlingen-vs-pipinsried/
URL;VALUE=URI:https://streamradar.soccer/id/match/5607493/nordlingen-vs-pip
 insried/
STATUS:CONFIRMED
END:VEVENT
END:VCALENDAR
