BEGIN:VCALENDAR
VERSION:2.0
PRODID:-//StreamRadar//Match Calendar//EN
CALSCALE:GREGORIAN
METHOD:PUBLISH
X-WR-CALNAME:OFI vs Aris
X-WR-TIMEZONE:America/New_York
BEGIN:VEVENT
UID:match-5607340@streamradar.soccer
SUMMARY:OFI vs Aris
DTSTAMP:20260421T103933Z
DTSTART;TZID=America/New_York:20260503T100000
DTEND;TZID=America/New_York:20260503T120000
LOCATION:Pankritio Stadium
DESCRIPTION:Tempat menonton OFI vs Aris di Yunani - Super League Yunani. Si
 aran langsung dan jadwal TV.\nhttps://streamradar.soccer/id/match/5607340/o
 fi-vs-aris/
URL;VALUE=URI:https://streamradar.soccer/id/match/5607340/ofi-vs-aris/
STATUS:CONFIRMED
END:VEVENT
END:VCALENDAR
