BEGIN:VCALENDAR
VERSION:2.0
PRODID:-//StreamRadar//Match Calendar//EN
CALSCALE:GREGORIAN
METHOD:PUBLISH
X-WR-CALNAME:Yanbian Longding vs Guangdong GZ-Power
X-WR-TIMEZONE:America/New_York
BEGIN:VEVENT
UID:match-5589239@streamradar.soccer
SUMMARY:Yanbian Longding vs Guangdong GZ-Power
DTSTAMP:20260423T193441Z
DTSTART;TZID=America/New_York:20260918T060000
DTEND;TZID=America/New_York:20260918T080000
LOCATION:Yanji Nationwide Fitness Centre Stadium
DESCRIPTION:Tempat menonton Yanbian Longding vs Guangdong GZ-Power di Liga 
 Divisi Satu China. Siaran langsung dan jadwal TV.\nhttps://streamradar.socc
 er/id/match/5589239/yanbian-longding-vs-guangdong-gz-power/
URL;VALUE=URI:https://streamradar.soccer/id/match/5589239/yanbian-longding-
 vs-guangdong-gz-power/
STATUS:CONFIRMED
END:VEVENT
END:VCALENDAR
