BEGIN:VCALENDAR
VERSION:2.0
PRODID:-//StreamRadar//Match Calendar//EN
CALSCALE:GREGORIAN
METHOD:PUBLISH
X-WR-CALNAME:Nõmme Kalju II vs Flora II
X-WR-TIMEZONE:America/New_York
BEGIN:VEVENT
UID:match-5567418@streamradar.soccer
SUMMARY:Nõmme Kalju II vs Flora II
DTSTAMP:20260423T160316Z
DTSTART;TZID=America/New_York:20260910T103000
DTEND;TZID=America/New_York:20260910T123000
LOCATION:Hiiu Stadium
DESCRIPTION:Tempat menonton Nõmme Kalju II vs Flora II di Estonia - Esilii
 ga A. Siaran langsung dan jadwal TV.\nhttps://streamradar.soccer/id/match/5
 567418/nomme-kalju-ii-vs-flora-ii/
URL;VALUE=URI:https://streamradar.soccer/id/match/5567418/nomme-kalju-ii-vs
 -flora-ii/
STATUS:CONFIRMED
END:VEVENT
END:VCALENDAR
