BEGIN:VCALENDAR
VERSION:2.0
PRODID:-//StreamRadar//Match Calendar//EN
CALSCALE:GREGORIAN
METHOD:PUBLISH
X-WR-CALNAME:Qviding FIF vs Dalstorps
X-WR-TIMEZONE:America/New_York
BEGIN:VEVENT
UID:match-5567082@streamradar.soccer
SUMMARY:Qviding FIF vs Dalstorps
DTSTAMP:20260422T082321Z
DTSTART;TZID=America/New_York:20260919T060000
DTEND;TZID=America/New_York:20260919T080000
DESCRIPTION:Tempat menonton Qviding FIF vs Dalstorps di Swedia - Superettan
 . Siaran langsung dan jadwal TV.\nhttps://streamradar.soccer/id/match/55670
 82/qviding-fif-vs-dalstorps/
URL;VALUE=URI:https://streamradar.soccer/id/match/5567082/qviding-fif-vs-da
 lstorps/
STATUS:CONFIRMED
END:VEVENT
END:VCALENDAR
