BEGIN:VCALENDAR
VERSION:2.0
PRODID:-//StreamRadar//Match Calendar//EN
CALSCALE:GREGORIAN
METHOD:PUBLISH
X-WR-CALNAME:Staffanstorp United vs Osterlen
X-WR-TIMEZONE:America/New_York
BEGIN:VEVENT
UID:match-5566717@streamradar.soccer
SUMMARY:Staffanstorp United vs Osterlen
DTSTAMP:20260422T051147Z
DTSTART;TZID=America/New_York:20260918T130000
DTEND;TZID=America/New_York:20260918T150000
DESCRIPTION:Tempat menonton Staffanstorp United vs Osterlen di Swedia - Sup
 erettan. Siaran langsung dan jadwal TV.\nhttps://streamradar.soccer/id/matc
 h/5566717/staffanstorp-united-vs-osterlen/
URL;VALUE=URI:https://streamradar.soccer/id/match/5566717/staffanstorp-unit
 ed-vs-osterlen/
STATUS:CONFIRMED
END:VEVENT
END:VCALENDAR
