BEGIN:VCALENDAR
VERSION:2.0
PRODID:-//StreamRadar//Match Calendar//EN
CALSCALE:GREGORIAN
METHOD:PUBLISH
X-WR-CALNAME:Kungsängen vs Falu BS
X-WR-TIMEZONE:America/New_York
BEGIN:VEVENT
UID:match-5566537@streamradar.soccer
SUMMARY:Kungsängen vs Falu BS
DTSTAMP:20260422T053240Z
DTSTART;TZID=America/New_York:20260919T090000
DTEND;TZID=America/New_York:20260919T110000
DESCRIPTION:Tempat menonton Kungsängen vs Falu BS di Swedia - Superettan. 
 Siaran langsung dan jadwal TV.\nhttps://streamradar.soccer/id/match/5566537
 /kungsangen-vs-falu-bs/
URL;VALUE=URI:https://streamradar.soccer/id/match/5566537/kungsangen-vs-fal
 u-bs/
STATUS:CONFIRMED
END:VEVENT
END:VCALENDAR
