BEGIN:VCALENDAR
VERSION:2.0
PRODID:-//StreamRadar//Match Calendar//EN
CALSCALE:GREGORIAN
METHOD:PUBLISH
X-WR-CALNAME:Gute vs Franke
X-WR-TIMEZONE:America/New_York
BEGIN:VEVENT
UID:match-5566391@streamradar.soccer
SUMMARY:Gute vs Franke
DTSTAMP:20260422T080824Z
DTSTART;TZID=America/New_York:20260328T130000
DTEND;TZID=America/New_York:20260328T150000
LOCATION:Gutavallen (Visby (Gotland))
DESCRIPTION:Tempat menonton Gute vs Franke di Swedia - Superettan. Siaran l
 angsung dan jadwal TV.\nhttps://streamradar.soccer/id/match/5566391/gute-vs
 -franke/
URL;VALUE=URI:https://streamradar.soccer/id/match/5566391/gute-vs-franke/
STATUS:CONFIRMED
END:VEVENT
END:VCALENDAR
