BEGIN:VCALENDAR
VERSION:2.0
PRODID:-//StreamRadar//Match Calendar//EN
CALSCALE:GREGORIAN
METHOD:PUBLISH
X-WR-CALNAME:Motala vs Grebbestad
X-WR-TIMEZONE:America/New_York
BEGIN:VEVENT
UID:match-5566355@streamradar.soccer
SUMMARY:Motala vs Grebbestad
DTSTAMP:20260422T052640Z
DTSTART;TZID=America/New_York:20260919T080000
DTEND;TZID=America/New_York:20260919T100000
DESCRIPTION:Tempat menonton Motala vs Grebbestad di Swedia - Superettan. Si
 aran langsung dan jadwal TV.\nhttps://streamradar.soccer/id/match/5566355/m
 otala-vs-grebbestad/
URL;VALUE=URI:https://streamradar.soccer/id/match/5566355/motala-vs-grebbes
 tad/
STATUS:CONFIRMED
END:VEVENT
END:VCALENDAR
