BEGIN:VCALENDAR
VERSION:2.0
PRODID:-//StreamRadar//Match Calendar//EN
CALSCALE:GREGORIAN
METHOD:PUBLISH
X-WR-CALNAME:Tacoma Defiance vs Portland Timbers II
X-WR-TIMEZONE:America/New_York
BEGIN:VEVENT
UID:match-5565987@streamradar.soccer
SUMMARY:Tacoma Defiance vs Portland Timbers II
DTSTAMP:20260424T002912Z
DTSTART;TZID=America/New_York:20260920T170000
DTEND;TZID=America/New_York:20260920T190000
LOCATION:Starfire Sports
DESCRIPTION:Tempat menonton Tacoma Defiance vs Portland Timbers II di MLS N
 ext Pro. Siaran langsung dan jadwal TV.\nhttps://streamradar.soccer/id/matc
 h/5565987/tacoma-defiance-vs-portland-timbers-ii/
URL;VALUE=URI:https://streamradar.soccer/id/match/5565987/tacoma-defiance-v
 s-portland-timbers-ii/
STATUS:CONFIRMED
END:VEVENT
END:VCALENDAR
