BEGIN:VCALENDAR
VERSION:2.0
PRODID:-//StreamRadar//Match Calendar//EN
CALSCALE:GREGORIAN
METHOD:PUBLISH
X-WR-CALNAME:Ventura County vs Tacoma Defiance
X-WR-TIMEZONE:America/New_York
BEGIN:VEVENT
UID:match-5565969@streamradar.soccer
SUMMARY:Ventura County vs Tacoma Defiance
DTSTAMP:20260422T113704Z
DTSTART;TZID=America/New_York:20260913T190000
DTEND;TZID=America/New_York:20260913T210000
LOCATION:Dignity Health Sports Park
DESCRIPTION:Tempat menonton Ventura County vs Tacoma Defiance di MLS Next P
 ro. Siaran langsung dan jadwal TV.\nhttps://streamradar.soccer/id/match/556
 5969/ventura-county-vs-tacoma-defiance/
URL;VALUE=URI:https://streamradar.soccer/id/match/5565969/ventura-county-vs
 -tacoma-defiance/
STATUS:CONFIRMED
END:VEVENT
END:VCALENDAR
