BEGIN:VCALENDAR
VERSION:2.0
PRODID:-//StreamRadar//Match Calendar//EN
CALSCALE:GREGORIAN
METHOD:PUBLISH
X-WR-CALNAME:Yangpyeong vs Siheung Citizen
X-WR-TIMEZONE:America/New_York
BEGIN:VEVENT
UID:match-5565493@streamradar.soccer
SUMMARY:Yangpyeong vs Siheung Citizen
DTSTAMP:20260422T024641Z
DTSTART;TZID=America/New_York:20260906T040000
DTEND;TZID=America/New_York:20260906T060000
DESCRIPTION:Tempat menonton Yangpyeong vs Siheung Citizen di Republik Korea
  - K3 League. Siaran langsung dan jadwal TV.\nhttps://streamradar.soccer/id
 /match/5565493/yangpyeong-vs-siheung-citizen/
URL;VALUE=URI:https://streamradar.soccer/id/match/5565493/yangpyeong-vs-sih
 eung-citizen/
STATUS:CONFIRMED
END:VEVENT
END:VCALENDAR
