BEGIN:VCALENDAR
VERSION:2.0
PRODID:-//StreamRadar//Match Calendar//EN
CALSCALE:GREGORIAN
METHOD:PUBLISH
X-WR-CALNAME:Seoul E-Land vs Suwon Bluewings
X-WR-TIMEZONE:America/New_York
BEGIN:VEVENT
UID:match-5563231@streamradar.soccer
SUMMARY:Seoul E-Land vs Suwon Bluewings
DTSTAMP:20260422T053239Z
DTSTART;TZID=America/New_York:20260912T033000
DTEND;TZID=America/New_York:20260912T053000
LOCATION:Mokdong Stadium
DESCRIPTION:Tempat menonton Seoul E-Land vs Suwon Bluewings di Republik Kor
 ea - K League 2. Siaran langsung dan jadwal TV.\nhttps://streamradar.soccer
 /id/match/5563231/seoul-e-land-vs-suwon-bluewings/
URL;VALUE=URI:https://streamradar.soccer/id/match/5563231/seoul-e-land-vs-s
 uwon-bluewings/
STATUS:CONFIRMED
END:VEVENT
END:VCALENDAR
