BEGIN:VCALENDAR
VERSION:2.0
PRODID:-//StreamRadar//Match Calendar//EN
CALSCALE:GREGORIAN
METHOD:PUBLISH
X-WR-CALNAME:Deportes Quindío vs Orsomarso
X-WR-TIMEZONE:America/New_York
BEGIN:VEVENT
UID:match-5562549@streamradar.soccer
SUMMARY:Deportes Quindío vs Orsomarso
DTSTAMP:20260422T112408Z
DTSTART;TZID=America/New_York:20260326T200000
DTEND;TZID=America/New_York:20260326T220000
LOCATION:Estadio Centenario
DESCRIPTION:Tempat menonton Deportes Quindío vs Orsomarso di Kolombia - Pr
 imera B. Siaran langsung dan jadwal TV.\nhttps://streamradar.soccer/id/matc
 h/5562549/deportes-quindio-vs-orsomarso/
URL;VALUE=URI:https://streamradar.soccer/id/match/5562549/deportes-quindio-
 vs-orsomarso/
STATUS:CONFIRMED
END:VEVENT
END:VCALENDAR
