BEGIN:VCALENDAR
VERSION:2.0
PRODID:-//StreamRadar//Match Calendar//EN
CALSCALE:GREGORIAN
METHOD:PUBLISH
X-WR-CALNAME:Rangers vs Deportes Iquique
X-WR-TIMEZONE:America/New_York
BEGIN:VEVENT
UID:match-5562320@streamradar.soccer
SUMMARY:Rangers vs Deportes Iquique
DTSTAMP:20260421T093141Z
DTSTART;TZID=America/New_York:20260913T160000
DTEND;TZID=America/New_York:20260913T180000
LOCATION:Estadio Fiscal de Talca
DESCRIPTION:Tempat menonton Rangers vs Deportes Iquique di Cili - Primera B
 . Siaran langsung dan jadwal TV.\nhttps://streamradar.soccer/id/match/55623
 20/rangers-vs-deportes-iquique/
URL;VALUE=URI:https://streamradar.soccer/id/match/5562320/rangers-vs-deport
 es-iquique/
STATUS:CONFIRMED
END:VEVENT
END:VCALENDAR
