BEGIN:VCALENDAR
VERSION:2.0
PRODID:-//StreamRadar//Match Calendar//EN
CALSCALE:GREGORIAN
METHOD:PUBLISH
X-WR-CALNAME:Copiapó vs Deportes Iquique
X-WR-TIMEZONE:America/New_York
BEGIN:VEVENT
UID:match-5562151@streamradar.soccer
SUMMARY:Copiapó vs Deportes Iquique
DTSTAMP:20260422T152524Z
DTSTART;TZID=America/New_York:20260322T170000
DTEND;TZID=America/New_York:20260322T190000
LOCATION:Estadio Luis Valenzuela Hermosilla
DESCRIPTION:Tempat menonton Copiapó vs Deportes Iquique di Cili - Primera 
 B. Siaran langsung dan jadwal TV.\nhttps://streamradar.soccer/id/match/5562
 151/copiapo-vs-deportes-iquique/
URL;VALUE=URI:https://streamradar.soccer/id/match/5562151/copiapo-vs-deport
 es-iquique/
STATUS:CONFIRMED
END:VEVENT
END:VCALENDAR
