BEGIN:VCALENDAR
VERSION:2.0
PRODID:-//StreamRadar//Match Calendar//EN
CALSCALE:GREGORIAN
METHOD:PUBLISH
X-WR-CALNAME:URA vs Calvary
X-WR-TIMEZONE:America/New_York
BEGIN:VEVENT
UID:match-5562106@streamradar.soccer
SUMMARY:URA vs Calvary
DTSTAMP:20260421T110302Z
DTSTART;TZID=America/New_York:20260512T100000
DTEND;TZID=America/New_York:20260512T120000
LOCATION:Hamz Stadium
DESCRIPTION:Tempat menonton URA vs Calvary di Uganda - Premier League. Siar
 an langsung dan jadwal TV.\nhttps://streamradar.soccer/id/match/5562106/ura
 -vs-calvary/
URL;VALUE=URI:https://streamradar.soccer/id/match/5562106/ura-vs-calvary/
STATUS:CONFIRMED
END:VEVENT
END:VCALENDAR
