BEGIN:VCALENDAR
VERSION:2.0
PRODID:-//StreamRadar//Match Calendar//EN
CALSCALE:GREGORIAN
METHOD:PUBLISH
X-WR-CALNAME:Super Nova vs Tukums
X-WR-TIMEZONE:America/New_York
BEGIN:VEVENT
UID:match-5561934@streamradar.soccer
SUMMARY:Super Nova vs Tukums
DTSTAMP:20260422T075013Z
DTSTART;TZID=America/New_York:20260911T110000
DTEND;TZID=America/New_York:20260911T130000
LOCATION:Slokas Stadions
DESCRIPTION:Tempat menonton Super Nova vs Tukums di Latvia - Virsliga. Siar
 an langsung dan jadwal TV.\nhttps://streamradar.soccer/id/match/5561934/sup
 er-nova-vs-tukums/
URL;VALUE=URI:https://streamradar.soccer/id/match/5561934/super-nova-vs-tuk
 ums/
STATUS:CONFIRMED
END:VEVENT
END:VCALENDAR
