BEGIN:VCALENDAR
VERSION:2.0
PRODID:-//StreamRadar//Match Calendar//EN
CALSCALE:GREGORIAN
METHOD:PUBLISH
X-WR-CALNAME:Nõmme United vs Flora
X-WR-TIMEZONE:America/New_York
BEGIN:VEVENT
UID:match-5561672@streamradar.soccer
SUMMARY:Nõmme United vs Flora
DTSTAMP:20260422T045628Z
DTSTART;TZID=America/New_York:20260912T100000
DTEND;TZID=America/New_York:20260912T120000
DESCRIPTION:Tempat menonton Nõmme United vs Flora di Estonia - Meistriliig
 a. Siaran langsung dan jadwal TV.\nhttps://streamradar.soccer/id/match/5561
 672/nomme-united-vs-flora/
URL;VALUE=URI:https://streamradar.soccer/id/match/5561672/nomme-united-vs-f
 lora/
STATUS:CONFIRMED
END:VEVENT
END:VCALENDAR
