BEGIN:VCALENDAR
VERSION:2.0
PRODID:-//StreamRadar//Match Calendar//EN
CALSCALE:GREGORIAN
METHOD:PUBLISH
X-WR-CALNAME:Vaprus vs Nõmme United
X-WR-TIMEZONE:America/New_York
BEGIN:VEVENT
UID:match-5561662@streamradar.soccer
SUMMARY:Vaprus vs Nõmme United
DTSTAMP:20260421T194934Z
DTSTART;TZID=America/New_York:20260905T100000
DTEND;TZID=America/New_York:20260905T120000
LOCATION:Parnu Rannastaadion
DESCRIPTION:Tempat menonton Vaprus vs Nõmme United di Estonia - Meistrilii
 ga. Siaran langsung dan jadwal TV.\nhttps://streamradar.soccer/id/match/556
 1662/vaprus-vs-nomme-united/
URL;VALUE=URI:https://streamradar.soccer/id/match/5561662/vaprus-vs-nomme-u
 nited/
STATUS:CONFIRMED
END:VEVENT
END:VCALENDAR
