BEGIN:VCALENDAR
VERSION:2.0
PRODID:-//StreamRadar//Match Calendar//EN
CALSCALE:GREGORIAN
METHOD:PUBLISH
X-WR-CALNAME:Lokomotiv vs Mash'al
X-WR-TIMEZONE:America/New_York
BEGIN:VEVENT
UID:match-5561475@streamradar.soccer
SUMMARY:Lokomotiv vs Mash'al
DTSTAMP:20260424T054015Z
DTSTART;TZID=America/New_York:20260921T110000
DTEND;TZID=America/New_York:20260921T130000
LOCATION:Lokomotiv Stadium
DESCRIPTION:Tempat menonton Lokomotiv vs Mash'al di Uzbekistan Super League
 . Siaran langsung dan jadwal TV.\nhttps://streamradar.soccer/id/match/55614
 75/lokomotiv-vs-mashal/
URL;VALUE=URI:https://streamradar.soccer/id/match/5561475/lokomotiv-vs-mash
 al/
STATUS:CONFIRMED
END:VEVENT
END:VCALENDAR
