BEGIN:VCALENDAR
VERSION:2.0
PRODID:-//StreamRadar//Match Calendar//EN
CALSCALE:GREGORIAN
METHOD:PUBLISH
X-WR-CALNAME:Dinamo Samarqand vs Qizilqum
X-WR-TIMEZONE:America/New_York
BEGIN:VEVENT
UID:match-5561470@streamradar.soccer
SUMMARY:Dinamo Samarqand vs Qizilqum
DTSTAMP:20260421T194933Z
DTSTART;TZID=America/New_York:20260909T110000
DTEND;TZID=America/New_York:20260909T130000
LOCATION:Dinamo Samarkand Stadium
DESCRIPTION:Tempat menonton Dinamo Samarqand vs Qizilqum di Uzbekistan Supe
 r League. Siaran langsung dan jadwal TV.\nhttps://streamradar.soccer/id/mat
 ch/5561470/dinamo-samarqand-vs-qizilqum/
URL;VALUE=URI:https://streamradar.soccer/id/match/5561470/dinamo-samarqand-
 vs-qizilqum/
STATUS:CONFIRMED
END:VEVENT
END:VCALENDAR
