BEGIN:VCALENDAR
VERSION:2.0
PRODID:-//StreamRadar//Match Calendar//EN
CALSCALE:GREGORIAN
METHOD:PUBLISH
X-WR-CALNAME:Andijan vs Navbahor
X-WR-TIMEZONE:America/New_York
BEGIN:VEVENT
UID:match-5561348@streamradar.soccer
SUMMARY:Andijan vs Navbahor
DTSTAMP:20260422T043305Z
DTSTART;TZID=America/New_York:20260407T101500
DTEND;TZID=America/New_York:20260407T121500
LOCATION:Bobur Arena
DESCRIPTION:Tempat menonton Andijan vs Navbahor di Uzbekistan Super League.
  Siaran langsung dan jadwal TV.\nhttps://streamradar.soccer/id/match/556134
 8/andijan-vs-navbahor/
URL;VALUE=URI:https://streamradar.soccer/id/match/5561348/andijan-vs-navbah
 or/
STATUS:CONFIRMED
END:VEVENT
END:VCALENDAR
