BEGIN:VCALENDAR
VERSION:2.0
PRODID:-//StreamRadar//Match Calendar//EN
CALSCALE:GREGORIAN
METHOD:PUBLISH
X-WR-CALNAME:Comunicaciones vs Defensores Unidos
X-WR-TIMEZONE:America/New_York
BEGIN:VEVENT
UID:match-5560756@streamradar.soccer
SUMMARY:Comunicaciones vs Defensores Unidos
DTSTAMP:20260422T030919Z
DTSTART;TZID=America/New_York:20260919T160000
DTEND;TZID=America/New_York:20260919T180000
LOCATION:Alfredo Ramos stadium
DESCRIPTION:Tempat menonton Comunicaciones vs Defensores Unidos di Argentin
 a - Primera B Metropolitana. Siaran langsung dan jadwal TV.\nhttps://stream
 radar.soccer/id/match/5560756/comunicaciones-vs-defensores-unidos/
URL;VALUE=URI:https://streamradar.soccer/id/match/5560756/comunicaciones-vs
 -defensores-unidos/
STATUS:CONFIRMED
END:VEVENT
END:VCALENDAR
