BEGIN:VCALENDAR
VERSION:2.0
PRODID:-//StreamRadar//Match Calendar//EN
CALSCALE:GREGORIAN
METHOD:PUBLISH
X-WR-CALNAME:Real Pilar vs Talleres Remedios
X-WR-TIMEZONE:America/New_York
BEGIN:VEVENT
UID:match-5560739@streamradar.soccer
SUMMARY:Real Pilar vs Talleres Remedios
DTSTAMP:20260421T093131Z
DTSTART;TZID=America/New_York:20260905T160000
DTEND;TZID=America/New_York:20260905T180000
LOCATION:Municipal de Pilar-Carlos Barraza
DESCRIPTION:Tempat menonton Real Pilar vs Talleres Remedios di Argentina - 
 Primera B Metropolitana. Siaran langsung dan jadwal TV.\nhttps://streamrada
 r.soccer/id/match/5560739/real-pilar-vs-talleres-remedios/
URL;VALUE=URI:https://streamradar.soccer/id/match/5560739/real-pilar-vs-tal
 leres-remedios/
STATUS:CONFIRMED
END:VEVENT
END:VCALENDAR
