BEGIN:VCALENDAR
VERSION:2.0
PRODID:-//StreamRadar//Match Calendar//EN
CALSCALE:GREGORIAN
METHOD:PUBLISH
X-WR-CALNAME:Shanghai Port vs Shandong Taishan
X-WR-TIMEZONE:America/New_York
BEGIN:VEVENT
UID:match-5560356@streamradar.soccer
SUMMARY:Shanghai Port vs Shandong Taishan
DTSTAMP:20260421T201236Z
DTSTART;TZID=America/New_York:20260801T073500
DTEND;TZID=America/New_York:20260801T093500
LOCATION:Pudong Football Stadium
DESCRIPTION:Tempat menonton Shanghai Port vs Shandong Taishan di Tiongkok -
  Liga Super Tiongkok. Siaran langsung dan jadwal TV.\nhttps://streamradar.s
 occer/id/match/5560356/shanghai-port-vs-shandong-taishan/
URL;VALUE=URI:https://streamradar.soccer/id/match/5560356/shanghai-port-vs-
 shandong-taishan/
STATUS:CONFIRMED
END:VEVENT
END:VCALENDAR
