BEGIN:VCALENDAR
VERSION:2.0
PRODID:-//StreamRadar//Match Calendar//EN
CALSCALE:GREGORIAN
METHOD:PUBLISH
X-WR-CALNAME:Hangzhou vs Liaoning Tieren
X-WR-TIMEZONE:America/New_York
BEGIN:VEVENT
UID:match-5560303@streamradar.soccer
SUMMARY:Hangzhou vs Liaoning Tieren
DTSTAMP:20260421T100450Z
DTSTART;TZID=America/New_York:20260524T073500
DTEND;TZID=America/New_York:20260524T093500
LOCATION:Huizhou Olympic Stadium
DESCRIPTION:Tempat menonton Hangzhou vs Liaoning Tieren di Tiongkok - Liga 
 Super Tiongkok. Siaran langsung dan jadwal TV.\nhttps://streamradar.soccer/
 id/match/5560303/hangzhou-vs-liaoning-tieren/
URL;VALUE=URI:https://streamradar.soccer/id/match/5560303/hangzhou-vs-liaon
 ing-tieren/
STATUS:CONFIRMED
END:VEVENT
END:VCALENDAR
