BEGIN:VCALENDAR
VERSION:2.0
PRODID:-//StreamRadar//Match Calendar//EN
CALSCALE:GREGORIAN
METHOD:PUBLISH
X-WR-CALNAME:Quilmes vs Club Atlético Güemes
X-WR-TIMEZONE:America/New_York
BEGIN:VEVENT
UID:match-5560124@streamradar.soccer
SUMMARY:Quilmes vs Club Atlético Güemes
DTSTAMP:20260422T054709Z
DTSTART;TZID=America/New_York:20260919T160000
DTEND;TZID=America/New_York:20260919T180000
LOCATION:Estadio Centenario Ciudad de Quilmes
DESCRIPTION:Tempat menonton Quilmes vs Club Atlético Güemes di Argentina 
 - Primera Nacional. Siaran langsung dan jadwal TV.\nhttps://streamradar.soc
 cer/id/match/5560124/quilmes-vs-club-atletico-g-emes/
URL;VALUE=URI:https://streamradar.soccer/id/match/5560124/quilmes-vs-club-a
 tletico-g-emes/
STATUS:CONFIRMED
END:VEVENT
END:VCALENDAR
