BEGIN:VCALENDAR
VERSION:2.0
PRODID:-//StreamRadar//Match Calendar//EN
CALSCALE:GREGORIAN
METHOD:PUBLISH
X-WR-CALNAME:Central Norte vs Defensores de Belgrano
X-WR-TIMEZONE:America/New_York
BEGIN:VEVENT
UID:match-5560093@streamradar.soccer
SUMMARY:Central Norte vs Defensores de Belgrano
DTSTAMP:20260421T112411Z
DTSTART;TZID=America/New_York:20260912T160000
DTEND;TZID=America/New_York:20260912T180000
LOCATION:Estadio Padre Ernesto Martearena
DESCRIPTION:Tempat menonton Central Norte vs Defensores De Belgrano di Arge
 ntina - Primera Nacional. Siaran langsung dan jadwal TV.\nhttps://streamrad
 ar.soccer/id/match/5560093/central-norte-vs-defensores-de-belgrano/
URL;VALUE=URI:https://streamradar.soccer/id/match/5560093/central-norte-vs-
 defensores-de-belgrano/
STATUS:CONFIRMED
END:VEVENT
END:VCALENDAR
