BEGIN:VCALENDAR
VERSION:2.0
PRODID:-//StreamRadar//Match Calendar//EN
CALSCALE:GREGORIAN
METHOD:PUBLISH
X-WR-CALNAME:Vila Nova vs América Mineiro
X-WR-TIMEZONE:America/New_York
BEGIN:VEVENT
UID:match-5559571@streamradar.soccer
SUMMARY:Vila Nova vs América Mineiro
DTSTAMP:20260422T053245Z
DTSTART;TZID=America/New_York:20260919T150000
DTEND;TZID=America/New_York:20260919T170000
DESCRIPTION:Tempat menonton Vila Nova vs América Mineiro di Brasil - Serie
  B. Siaran langsung dan jadwal TV.\nhttps://streamradar.soccer/id/match/555
 9571/vila-nova-vs-america-mineiro/
URL;VALUE=URI:https://streamradar.soccer/id/match/5559571/vila-nova-vs-amer
 ica-mineiro/
STATUS:CONFIRMED
END:VEVENT
END:VCALENDAR
