BEGIN:VCALENDAR
VERSION:2.0
PRODID:-//StreamRadar//Match Calendar//EN
CALSCALE:GREGORIAN
METHOD:PUBLISH
X-WR-CALNAME:Náutico vs Operário PR
X-WR-TIMEZONE:America/New_York
BEGIN:VEVENT
UID:match-5559560@streamradar.soccer
SUMMARY:Náutico vs Operário PR
DTSTAMP:20260421T133520Z
DTSTART;TZID=America/New_York:20260912T150000
DTEND;TZID=America/New_York:20260912T170000
DESCRIPTION:Tempat menonton Náutico vs Operário PR di Brasil - Serie B. S
 iaran langsung dan jadwal TV.\nhttps://streamradar.soccer/id/match/5559560/
 nautico-vs-operario-pr/
URL;VALUE=URI:https://streamradar.soccer/id/match/5559560/nautico-vs-operar
 io-pr/
STATUS:CONFIRMED
END:VEVENT
END:VCALENDAR
