BEGIN:VCALENDAR
VERSION:2.0
PRODID:-//StreamRadar//Match Calendar//EN
CALSCALE:GREGORIAN
METHOD:PUBLISH
X-WR-CALNAME:CRB vs América Mineiro
X-WR-TIMEZONE:America/New_York
BEGIN:VEVENT
UID:match-5559534@streamradar.soccer
SUMMARY:CRB vs América Mineiro
DTSTAMP:20260421T155017Z
DTSTART;TZID=America/New_York:20260905T150000
DTEND;TZID=America/New_York:20260905T170000
DESCRIPTION:Tempat menonton CRB vs América Mineiro di Brasil - Serie B. Si
 aran langsung dan jadwal TV.\nhttps://streamradar.soccer/id/match/5559534/c
 rb-vs-america-mineiro/
URL;VALUE=URI:https://streamradar.soccer/id/match/5559534/crb-vs-america-mi
 neiro/
STATUS:CONFIRMED
END:VEVENT
END:VCALENDAR
