BEGIN:VCALENDAR
VERSION:2.0
PRODID:-//StreamRadar//Match Calendar//EN
CALSCALE:GREGORIAN
METHOD:PUBLISH
X-WR-CALNAME:Emelec vs Deportivo Cuenca
X-WR-TIMEZONE:America/New_York
BEGIN:VEVENT
UID:match-5558997@streamradar.soccer
SUMMARY:Emelec vs Deportivo Cuenca
DTSTAMP:20260422T000444Z
DTSTART;TZID=America/New_York:20260404T200000
DTEND;TZID=America/New_York:20260404T220000
LOCATION:Estadio George Capwell
DESCRIPTION:Tempat menonton Emelec vs Deportivo Cuenca di Ekuador - Primera
  A Ekuador. Siaran langsung dan jadwal TV.\nhttps://streamradar.soccer/id/m
 atch/5558997/emelec-vs-deportivo-cuenca/
URL;VALUE=URI:https://streamradar.soccer/id/match/5558997/emelec-vs-deporti
 vo-cuenca/
STATUS:CONFIRMED
END:VEVENT
END:VCALENDAR
