BEGIN:VCALENDAR
VERSION:2.0
PRODID:-//StreamRadar//Match Calendar//EN
CALSCALE:GREGORIAN
METHOD:PUBLISH
X-WR-CALNAME:Chinese Taipei vs Vietnam
X-WR-TIMEZONE:America/New_York
BEGIN:VEVENT
UID:match-5557921@streamradar.soccer
SUMMARY:Chinese Taipei vs Vietnam
DTSTAMP:20260423T032726Z
DTSTART;TZID=America/New_York:20260307T000000
DTEND;TZID=America/New_York:20260307T020000
LOCATION:HBF Park
DESCRIPTION:Tempat menonton Tionghoa Taipei vs Vietnam di Piala Asia Wanita
  AFC. Siaran langsung dan jadwal TV.\nhttps://streamradar.soccer/id/match/5
 557921/chinese-taipei-vs-vietnam/
URL;VALUE=URI:https://streamradar.soccer/id/match/5557921/chinese-taipei-vs
 -vietnam/
STATUS:CONFIRMED
END:VEVENT
END:VCALENDAR
