BEGIN:VCALENDAR
VERSION:2.0
PRODID:-//StreamRadar//Match Calendar//EN
CALSCALE:GREGORIAN
METHOD:PUBLISH
X-WR-CALNAME:Korea DPR vs Uzbekistan
X-WR-TIMEZONE:America/New_York
BEGIN:VEVENT
UID:match-5557914@streamradar.soccer
SUMMARY:Korea DPR vs Uzbekistan
DTSTAMP:20260423T101158Z
DTSTART;TZID=America/New_York:20260302T210000
DTEND;TZID=America/New_York:20260302T230000
LOCATION:CommBank Stadium
DESCRIPTION:Tempat menonton Korea Utara vs Uzbekistan di Piala Asia Wanita 
 AFC. Siaran langsung dan jadwal TV.\nhttps://streamradar.soccer/id/match/55
 57914/korea-dpr-vs-uzbekistan/
URL;VALUE=URI:https://streamradar.soccer/id/match/5557914/korea-dpr-vs-uzbe
 kistan/
STATUS:CONFIRMED
END:VEVENT
END:VCALENDAR
