BEGIN:VCALENDAR
VERSION:2.0
PRODID:-//StreamRadar//Match Calendar//EN
CALSCALE:GREGORIAN
METHOD:PUBLISH
X-WR-CALNAME:Korea Republic vs Iran
X-WR-TIMEZONE:America/New_York
BEGIN:VEVENT
UID:match-5557913@streamradar.soccer
SUMMARY:Korea Republic vs Iran
DTSTAMP:20260423T100240Z
DTSTART;TZID=America/New_York:20260302T040000
DTEND;TZID=America/New_York:20260302T060000
LOCATION:Cbus Super Stadium
DESCRIPTION:Tempat menonton Republik Korea vs Iran di Piala Asia Wanita AFC
 . Siaran langsung dan jadwal TV.\nhttps://streamradar.soccer/id/match/55579
 13/korea-republic-vs-iran/
URL;VALUE=URI:https://streamradar.soccer/id/match/5557913/korea-republic-vs
 -iran/
STATUS:CONFIRMED
END:VEVENT
END:VCALENDAR
