BEGIN:VCALENDAR
VERSION:2.0
PRODID:-//StreamRadar//Match Calendar//EN
CALSCALE:GREGORIAN
METHOD:PUBLISH
X-WR-CALNAME:Birzebbuga vs Pietà Hotspurs
X-WR-TIMEZONE:America/New_York
BEGIN:VEVENT
UID:match-5557460@streamradar.soccer
SUMMARY:Birzebbuga vs Pietà Hotspurs
DTSTAMP:20260422T222705Z
DTSTART;TZID=America/New_York:20260314T140000
DTEND;TZID=America/New_York:20260314T160000
LOCATION:Victor Tedesco Stadium
DESCRIPTION:Tempat menonton Birzebbuga vs Pietà Hotspurs di Malta - Challe
 nge League. Siaran langsung dan jadwal TV.\nhttps://streamradar.soccer/id/m
 atch/5557460/birzebbuga-vs-pieta-hotspurs/
URL;VALUE=URI:https://streamradar.soccer/id/match/5557460/birzebbuga-vs-pie
 ta-hotspurs/
STATUS:CONFIRMED
END:VEVENT
END:VCALENDAR
